BEGIN:VCALENDAR
VERSION:2.0
CALSCALE:GREGORIAN
BEGIN:VEVENT
SUMMARY:Soft &amp; Calm Yoga Stretch &amp; Soundbath🎃
DTSTART;TZID=Europe/Brussels:20251101T103000
DTEND;TZID=Europe/Brussels:20251101T113000
LOCATION:
DESCRIPTION: 🔥 Max. 14 plekjes!
😊 -&gt; Opgelet: doe in november je beste outfit aan — ik ga filmen en foto’s trekken tijdens de lessen (soms 😉). Uiteraard altijd na jouw goedkeuring! 
👉 Minder dan 3 inschrijvingen? Dan wordt de les 90 min. voor aanvang geannuleerd (je beurt krijg je uiteraard terug)
👉 Annuleren of verplaatsen kan tot 6u op voorhand, zelf via de momo app aub
🧦 Warme sokken meebrengen en kleed je in lagen aan
🌸 Breng handdoek en water mee
📬 Herfstnieuwsbrief november: De nieuwsbrief is via mail verstuurd en online na te lezen op www.deniseplus.com 🌸 Bekijk daar ook de events voor november! :)
🎁 Extra’s: Cadeaubonnen, bedrijfsevents en privélessen op aanvraag

🌸 Proefles - 1 yogales of pilatesles naar keuze – 1 maand geldig - alleen geldig bij je eerste bezoek in de studio - €10
🌿 Duo Proefpakket - 2 lessen naar keuze – geldig 4 weken - alleen geldig bij je eerste bezoek in de studio - €28
💫 Events - €20
🔔 Innerdance - €50
Losse les €20
3-beurtenkaart €57, (€19 / les)
5-beurtenkaart €88, (€17,60 / les)
10-beurtenkaart €150, (€15 / les)
15-beurtenkaart €210, (€14 / les)
20-beurtenkaart €260, (€13 / les)
-&gt; Beurtenkaarten zijn 6 maanden geldig vanaf aankoop. Vakantieperiodes = geen lessen tenzij anders vermeld.

🌿 Een zaterdagochtend vol zachtheid, balans en hernieuwing.
We starten met zachte flow en stretch (Soft Yoga Stretch), vervolgens verdiepen we in yin-houdingen (Calm Yoga Stretch), en sluiten af met een helend Soundbath.🎵

🕐 Tijd: Zaterdag 10:30 – 11:30
🎯 Niveau: Iedereen welkom
💫 Effect: Balans – rust – innerlijke verbinding
STATUS:CONFIRMED
SEQUENCE:0
END:VEVENT
END:VCALENDAR