BEGIN:VCALENDAR
VERSION:2.0
CALSCALE:GREGORIAN
BEGIN:VEVENT
SUMMARY:Vinyasa yoga Flow for All
DTSTART;TZID=Europe/Amsterdam:20171212T090000
DTEND;TZID=Europe/Amsterdam:20171212T101000
LOCATION:Indrelaan 36, Achtse Barrier
DESCRIPTION: Helaas gaat de les deze week niet door.
STATUS:CONFIRMED
SEQUENCE:0
END:VEVENT
END:VCALENDAR