BEGIN:VCALENDAR
VERSION:2.0
CALSCALE:GREGORIAN
BEGIN:VEVENT
SUMMARY:I AM zen: meditatie workshop
DTSTART;TZID=Europe/Amsterdam:20171109T200000
DTEND;TZID=Europe/Amsterdam:20171109T210000
LOCATION:Indrelaan 36, Achtse Barrier
DESCRIPTION: Op zoek naar jou meditatie techniek die je ook thuis kunt doen.
STATUS:CONFIRMED
SEQUENCE:0
END:VEVENT
END:VCALENDAR