BEGIN:VCALENDAR
VERSION:2.0
CALSCALE:GREGORIAN
BEGIN:VEVENT
SUMMARY:MOEITELOZE MOEITE yoga (flow) - max.10 pers
DTSTART;TZID=Europe/Amsterdam:20260329T093000
DTEND;TZID=Europe/Amsterdam:20260329T110000
LOCATION:De Yogakelder
DESCRIPTION: Yoga voor iedereen. Bewegen op de ademhaling, op een gelijkmatig tempo met aandacht voor de houdingen. Van binnen uit naar buiten toe ervaren wat het doorlopen van de houdingen met jou doet. 
Er is ruimte voor persoonlijke uitleg en daar waar behoefte is, worden individuele aanpassingen aangeboden.
De meditatie in beweging ervaren.
STATUS:CONFIRMED
SEQUENCE:0
END:VEVENT
END:VCALENDAR