BEGIN:VCALENDAR
VERSION:2.0
CALSCALE:GREGORIAN
BEGIN:VEVENT
SUMMARY:XL-YOGALES : RUST &amp; RUIMTE
DTSTART;TZID=Europe/Amsterdam:20251109T100000
DTEND;TZID=Europe/Amsterdam:20251109T123000
LOCATION:De Yogakelder
DESCRIPTION: 2 1/2 uur onderdompelen in jezelf, het ervaren van rust en ruimte in jouw lichaam en in je hoofd.
STATUS:CONFIRMED
SEQUENCE:0
END:VEVENT
END:VCALENDAR