BEGIN:VCALENDAR
VERSION:2.0
CALSCALE:GREGORIAN
BEGIN:VEVENT
SUMMARY:Yoga Basics Workshop
DTSTART;TZID=Europe/Amsterdam:20200125T100000
DTEND;TZID=Europe/Amsterdam:20200125T120000
LOCATION:YogaLOS in Winschoten
DESCRIPTION: Tijdens deze workshop gaan we heel rustig per houding bekijken wat de juiste alignment is en wat voor jou lijf het beste werkt.
STATUS:CONFIRMED
SEQUENCE:0
END:VEVENT
END:VCALENDAR