BEGIN:VCALENDAR
VERSION:2.0
CALSCALE:GREGORIAN
BEGIN:VEVENT
SUMMARY:HERFSTVAKANTIE t.e.m. 02/11/2025
DTSTART;TZID=Europe/Brussels:20251027T000000
DTEND;TZID=Europe/Brussels:20251027T000000
LOCATION:
DESCRIPTION: 
STATUS:CONFIRMED
SEQUENCE:0
END:VEVENT
END:VCALENDAR