BEGIN:VCALENDAR
VERSION:2.0
CALSCALE:GREGORIAN
BEGIN:VEVENT
SUMMARY:Viyoga avec Jane
DTSTART;TZID=Europe/Paris:20250606T093000
DTEND;TZID=Europe/Paris:20250606T110000
LOCATION:Dharma Yoga
DESCRIPTION: Pour les personnes ayant envie d&amp;#039;une pratique plus dynamique et intense, ce cours propose d&amp;#039;aller plus loin dans les postures. Certaines postures avancées font partie de ce programme alors une forme physique et une certaine souplesse du corps et de l&amp;#039;esprit sont les prérequis.
STATUS:CONFIRMED
SEQUENCE:0
END:VEVENT
END:VCALENDAR