BEGIN:VCALENDAR
VERSION:2.0
CALSCALE:GREGORIAN
BEGIN:VEVENT
SUMMARY:🧘‍♀️ Yoga estival (Hatha - Vinyasa avec Tuhin) 🌿
DTSTART;TZID=Europe/Paris:20250703T180000
DTEND;TZID=Europe/Paris:20250703T193000
LOCATION:Dharma Yoga
DESCRIPTION: Cet été, le studio reste ouvert pour tous ceux qui passent la saison à Clermont et souhaitent continuer leur pratique au frais ou découvrir le yoga en douceur avant la rentrée.

🌞 Des séances adaptées, accessibles à tous, dans une ambiance détendue et bienveillante.
C’est le moment idéal pour prendre soin de soi, se reconnecter à son souffle, ou simplement essayer le yoga à son rythme.

📍 Les cours d’été seront proposés chaque semaine – avec des formules souples et des tarifs allégés.
🎫 Ouverts aux cartes, aux curieux et aux vacanciers en quête de calme intérieur !
STATUS:CONFIRMED
SEQUENCE:0
END:VEVENT
END:VCALENDAR