BEGIN:VCALENDAR
VERSION:2.0
CALSCALE:GREGORIAN
BEGIN:VEVENT
SUMMARY:Restorative Mindfulness
DTSTART;TZID=Europe/Amsterdam:20211209T181500
DTEND;TZID=Europe/Amsterdam:20211209T191500
LOCATION:Galoche Alle´9, Køge
DESCRIPTION: Når du har brug for at koble helt af. Skønne støttede restorative yoga stillinger, der skaber ro for krop og sind. Her er skal du blot være, og lade dig støtte af pøller, puder og tæpper, mens du bliver guidet igennem meditationer. Du går hjem med en behagelig følelse af ro og balance.
STATUS:CONFIRMED
SEQUENCE:0
END:VEVENT
END:VCALENDAR