BEGIN:VCALENDAR
VERSION:2.0
CALSCALE:GREGORIAN
BEGIN:VEVENT
SUMMARY:Detox med Yin Yoga
DTSTART;TZID=Europe/Amsterdam:20210810T090000
DTEND;TZID=Europe/Amsterdam:20210810T100000
LOCATION:Galoche Allé 9, 4600 Køge
DESCRIPTION: Når du vil forkæle kroppen med blid detox samtidig med du låser kroppen op!

Her stimuleres væv, organer og meridianbanerne, til urdrensning/detox og forbedring af fordøjelsen. Herved kan også opnås ro og overskud til at skabe en sundere livsstil.

Dette er også et hold, hvor du kan være med selvom du er stor/lille i form/ikke i form. Vi har lange stræk og god tid til at skifte og kommer ind i stillingerne.
STATUS:CONFIRMED
SEQUENCE:0
END:VEVENT
END:VCALENDAR