BEGIN:VCALENDAR
VERSION:2.0
CALSCALE:GREGORIAN
BEGIN:VEVENT
SUMMARY:Postnatal Toning &amp; Reshape | 產後修身 - Jennifer
DTSTART;TZID=Asia/Hong_Kong:20271103T123000
DTEND;TZID=Asia/Hong_Kong:20271103T133000
LOCATION:Diva Yoga Studio
DESCRIPTION: 此課堂適合順產6星期及剖腹10星期後的媽媽，適度的運動可使腹腔、⾻盆臟器位置恢復、⾻盆韌帶排列恢復，也能使腹部漸漸縮⼩；並協助腹部及⾻盆肌⾁群功能恢復。課堂亦針對修復腹直肌分離，減少產後腰背痛、腹部乏力及內臟器官下垂等問題，同時也讓媽媽們了解在產後的每一個時期有哪些是可做和不可做的動作和運動。

產後的媽媽在育兒的旅程中容易感到壓力及焦慮、不安以及孤獨感，透過瑜伽式子與呼吸練習幫助調整自律神經系統，得到身心的適當支持。透過課堂讓媽媽們心靈得到平靜，舒緩情緒，亦有修身之效，幫助媽媽回復懷孕前的美好身段。

注意事項⚠️
1️⃣ 如更改/取消課堂，請於 *課堂開始時間12小時前* 於預約系統自行取消，課堂套票不會扣減。
2️⃣ 當課堂顯示滿額FULL，學生可自行選擇排Waitlist等候，若果有其他學生於 *課堂開始時間12小時前* ，取消已預約課堂，Waitlist中的學生會自行補上，請自行留意電郵通知及查看系統。
若果有其他學生於 *課堂開始時間12小時內* ，取消已預約課堂，即「Late cancellation」，Waitlist中的學生不會自行補上。
3️⃣ 所有已付款的課堂均不可退款或轉讓。
4️⃣ 如因病假而無法出席課堂，請提供當日的醫生證明，否則系統會照常扣減課堂。
5️⃣ 學生有責任於上課前，確保身體情況適合參加瑜伽課堂。
6️⃣ 詳情條款及細則請參閱網頁，DIVA Yoga Studio 保留最終決定權。
STATUS:CONFIRMED
SEQUENCE:0
END:VEVENT
END:VCALENDAR