BEGIN:VCALENDAR
VERSION:2.0
CALSCALE:GREGORIAN
BEGIN:VEVENT
SUMMARY:Mindful Kids Yoga | 正念感統瑜伽 4Y-10Y - Fafa
DTSTART;TZID=Asia/Hong_Kong:20280416T131500
DTEND;TZID=Asia/Hong_Kong:20280416T141500
LOCATION:Diva Yoga Studio
DESCRIPTION: 核心：專注力、情緒管理、感官整合

此課堂專注於孩子身心的連結。透過特殊的教具、感官遊戲和基礎的正念呼吸練習，引導孩子覺察身體，提升感官統合能力和情緒調節能力。

教學重心： 呼吸練習 (Breathing) + 身體覺察 (Body Scan) + 感覺統合遊戲 + 靜心練習。

適合小朋友： 容易分心、情緒波動較大、需要提升專注力或需要緩解壓力的小朋友。

注意事項⚠️
1️⃣ 如更改/取消課堂，請於 *課堂開始時間12小時前* 於預約系統自行取消，課堂套票不會扣減。
2️⃣ 當課堂顯示滿額FULL，學生可自行選擇排Waitlist等候，若果有其他學生於 *課堂開始時間12小時前* ，取消已預約課堂，Waitlist中的學生會自行補上，請自行留意電郵通知及查看系統。
若果有其他學生於 *課堂開始時間12小時內* ，取消已預約課堂，即「Late cancellation」，Waitlist中的學生不會自行補上。
3️⃣ 所有已付款的課堂均不可退款或轉讓。
4️⃣ 如因病假而無法出席課堂，請提供當日的醫生證明，否則系統會照常扣減課堂。
5️⃣ 學生有責任於上課前，確保身體情況適合參加瑜伽課堂。
6️⃣ 詳情條款及細則請參閱網頁，DIVA Yoga Studio 保留最終決定權。
STATUS:CONFIRMED
SEQUENCE:0
END:VEVENT
END:VCALENDAR