BEGIN:VCALENDAR
VERSION:2.0
CALSCALE:GREGORIAN
BEGIN:VEVENT
SUMMARY:MFR Full body XL
DTSTART;TZID=Europe/Amsterdam:20250905T190000
DTEND;TZID=Europe/Amsterdam:20250905T210000
LOCATION:Do Yoga en Pilates
DESCRIPTION: MFR Full Body XL – 2 uur diepe ontspanning en herstel

Geef jezelf de ultieme start van het weekend met deze extra lange MFR-les! In deze 2 uur durende les nemen we je hele lichaam onder handen, van top tot teen.  

Met Myofascial Release (MFR) werk je in op het fascia dat direct onder de huid ligt en de spieren omhult en verbindt. Door gerichte druk en rustige bewegingen wordt spanning verminderd, de doorbloeding verbeterd en je mobiliteit vergroot. Vastzittende gebieden worden verzacht, waardoor je meer ontspanning en ruimte in je lichaam ervaart. Zie het als een 2 uur durende zelf massage.

We sluiten de les af met een kop thee en iets lekkers, zodat je ontspannen en opgeladen je weekend in gaat.  

Gun jezelf deze rust en herstel, je lichaam zal je dankbaar zijn!
STATUS:CONFIRMED
SEQUENCE:0
END:VEVENT
END:VCALENDAR