BEGIN:VCALENDAR
VERSION:2.0
CALSCALE:GREGORIAN
BEGIN:VEVENT
SUMMARY:Nemokama joga LIVE per Instagram’ą
DTSTART;TZID=Europe/Vilnius:20210902T180000
DTEND;TZID=Europe/Vilnius:20210902T183500
LOCATION:Instagram
DESCRIPTION: 
STATUS:CONFIRMED
SEQUENCE:0
END:VEVENT
END:VCALENDAR