BEGIN:VCALENDAR
VERSION:2.0
CALSCALE:GREGORIAN
BEGIN:VEVENT
SUMMARY:Ryto joga visiems (nuo Rugsėjo 16d.)
DTSTART;TZID=Europe/Vilnius:20210909T100000
DTEND;TZID=Europe/Vilnius:20210909T110000
LOCATION:Švitrigailos 11a
DESCRIPTION: Renkama nauja grupė, norintys užsiregistruoti rašykite mums žinutę Facebook arba Instagram)
STATUS:CONFIRMED
SEQUENCE:0
END:VEVENT
END:VCALENDAR