BEGIN:VCALENDAR
VERSION:2.0
CALSCALE:GREGORIAN
BEGIN:VEVENT
SUMMARY:Pilates laikysenai ir pilvo presui
DTSTART;TZID=Europe/Vilnius:20210218T174500
DTEND;TZID=Europe/Vilnius:20210218T184500
LOCATION:Ševčenkos 16A - 308
DESCRIPTION: 
STATUS:CONFIRMED
SEQUENCE:0
END:VEVENT
END:VCALENDAR