BEGIN:VCALENDAR
VERSION:2.0
CALSCALE:GREGORIAN
BEGIN:VEVENT
SUMMARY:Joga ant Tauro Kalno (atokvėpis tarp darbų)
DTSTART;TZID=Europe/Vilnius:20210818T123000
DTEND;TZID=Europe/Vilnius:20210818T131500
LOCATION:Tauro Kalnas
DESCRIPTION: Kūną stiprinanti ir subalansuojanti praktika, kuri nuramins mintis ir pakels nuotaiką.
STATUS:CONFIRMED
SEQUENCE:0
END:VEVENT
END:VCALENDAR