BEGIN:VCALENDAR
VERSION:2.0
CALSCALE:GREGORIAN
BEGIN:VEVENT
SUMMARY:Hatha Yoga
DTSTART;TZID=Europe/Berlin:20250623T190000
DTEND;TZID=Europe/Berlin:20250623T203000
LOCATION:downtown yoga
DESCRIPTION: Kräftigende Körperübungen in Verbindung mit einer bewussten Atmung. Eine Hatha Yogastunde setzt sich in der Regel aus einer Meditation, Atemübungen, Asanas und der abschließenden Entspannung zusammen. Die Yogaposen werden beim Hatha Yoga kraftvoll gehalten
STATUS:CONFIRMED
SEQUENCE:0
END:VEVENT
END:VCALENDAR