BEGIN:VCALENDAR
VERSION:2.0
CALSCALE:GREGORIAN
BEGIN:VEVENT
SUMMARY:Stabil &amp; Stark Adventspaket
DTSTART;TZID=Europe/Berlin:20251210T190000
DTEND;TZID=Europe/Berlin:20251210T203000
LOCATION:downtown yoga
DESCRIPTION: Kräftigende Haltungen für Core, Haltung und Gleichgewicht. Stabilität und Sicherheit im Alltag erhöhen, Energie tanken.
STATUS:CONFIRMED
SEQUENCE:0
END:VEVENT
END:VCALENDAR