BEGIN:VCALENDAR
VERSION:2.0
CALSCALE:GREGORIAN
BEGIN:VEVENT
SUMMARY:ONLINE Dru Yoga Nidra 😴
DTSTART;TZID=Europe/Amsterdam:20251029T190000
DTEND;TZID=Europe/Amsterdam:20251029T201500
LOCATION:Zoom
DESCRIPTION: Deze week zijn er verkiezingen, en daarom is de school in gebruik als stembureau. Dat betekent dat de lessen alleen online plaatsvinden.

Een mooie kans om het jezelf extra comfortabel te maken — met alle kussens, dekens, warme sokken en een kop thee die je maar wilt. We gaan heerlijke Yoga Nidra doen: een paar korte, zachte bewegingen en daarna lekker liggen… en misschien wel blijven liggen 😉

Ik kijk ernaar uit om samen met jullie te ontspannen, midden in alle drukte van de week.

Hartelijke groet,
Marian
STATUS:CONFIRMED
SEQUENCE:0
END:VEVENT
END:VCALENDAR