BEGIN:VCALENDAR
VERSION:2.0
CALSCALE:GREGORIAN
BEGIN:VEVENT
SUMMARY:Dru Yoga / Dru Yoga en Meditatie
DTSTART;TZID=Europe/Amsterdam:20220720T200000
DTEND;TZID=Europe/Amsterdam:20220720T211500
LOCATION:Dru Yoga Heerhugowaard
DESCRIPTION: Combinatieles met zachte yoga en een korte meditatie
STATUS:CONFIRMED
SEQUENCE:0
END:VEVENT
END:VCALENDAR