BEGIN:VCALENDAR
VERSION:2.0
CALSCALE:GREGORIAN
BEGIN:VEVENT
SUMMARY:Zwangerschapsyoga door Betty
DTSTART;TZID=Europe/Amsterdam:20190314T193000
DTEND;TZID=Europe/Amsterdam:20190314T204500
LOCATION:YogaStudio Soest, Weteringpad 7, 3762EN Soest
DESCRIPTION: Yogales waarbij je je ook voorbereidt op de bevalling en contact maakt met je kindje
STATUS:CONFIRMED
SEQUENCE:0
END:VEVENT
END:VCALENDAR