BEGIN:VCALENDAR
VERSION:2.0
CALSCALE:GREGORIAN
BEGIN:VEVENT
SUMMARY:Kinderyoga 9-12 jaar
DTSTART;TZID=Europe/Amsterdam:20181204T154500
DTEND;TZID=Europe/Amsterdam:20181204T164500
LOCATION:Dru Yoga Soest, Di Lassostraat 65, 3766EB Soest
DESCRIPTION: Kinderyoga les
STATUS:CONFIRMED
SEQUENCE:0
END:VEVENT
END:VCALENDAR