BEGIN:VCALENDAR
VERSION:2.0
CALSCALE:GREGORIAN
BEGIN:VEVENT
SUMMARY:Personaltraining
DTSTART;TZID=Europe/Berlin:20260316T163000
DTEND;TZID=Europe/Berlin:20260316T172000
LOCATION:
DESCRIPTION: Gönn Dir Dein individuelles Einzeltraining, komplett auf Dich zugeschnitten.
Gemeinsam arbeiten wir an der Verbesserung Deiner persönlichen Stabilität und der Kräftigung der Körpermitte
STATUS:CONFIRMED
SEQUENCE:0
END:VEVENT
END:VCALENDAR