BEGIN:VCALENDAR
VERSION:2.0
CALSCALE:GREGORIAN
BEGIN:VEVENT
SUMMARY:🌙【月亮燈．空中吊環工作坊】✨
DTSTART;TZID=Asia/Hong_Kong:20250614T194500
DTEND;TZID=Asia/Hong_Kong:20250614T214500
LOCATION:Grand Place, Mong Kok
DESCRIPTION: 🌙【月亮燈．空中吊環工作坊】✨

今次主題係喺溫柔又有力嘅《月亮燈》之下，配上梁靜茹《大人》呢首細膩嘅歌曲，透過喺空中吊環上以不同柔軟而堅實嘅動作展現出自信表現 🫶🏻

工作坊120分鐘將教授約一分半鐘串連（包括入spanset動作），當日會配合歌曲並設置片中月亮燈 🌕 供同學拍片 🎦

🔖 適合已恆常學習半年或以上嘅同學。學習如何掌握空中吊環技巧嘅細節位，同時融合技巧、節奏、情感演繹。

日期 : 2025年6月14日 星期六
時間 : 8:00-10:00pm（120分鐘）
價錢：$420/ 扣套票3堂（現有套票學生）$460（非現有套票學生）
歌曲：梁靜茹《大人》
導師：Ruby @striving.piggy
人數：最多6位同學
報名方式：IG 或WhatsApp DM購買課堂及預約📲
以上影片為一小部份 preview，空中吊環workshop適合不同程度同學參與，實際flow會按同學程度而有所調整。

條款及細則：
- 工作坊需有3位學員才成班。如不成班，Earth Yoga會於課堂開始前1日WhatsApp通知學員。
- 工作坊不切更改或取消課堂。
- 如不成班，課堂會轉換成3堂任何瑜伽課堂（不包括孕婦瑜伽），有效期3星期。
- 所有已付款之課堂均不可退款及轉讓。

購買課堂即代表您接受並同意我們的條款及細則。如有任何爭議，Earth Yoga保留最終決定權。
STATUS:CONFIRMED
SEQUENCE:0
END:VEVENT
END:VCALENDAR