BEGIN:VCALENDAR
VERSION:2.0
CALSCALE:GREGORIAN
BEGIN:VEVENT
SUMMARY:yoga doux
DTSTART;TZID=Europe/Paris:20250910T190000
DTEND;TZID=Europe/Paris:20250910T200000
LOCATION:place leopold cupif 13600 ceyreste
DESCRIPTION: Prenez un moment pour vous avec nos cours de Yoga Doux, spécialement conçus pour les débutants. Inspirés des principes du Hatha Yoga, ces séances accessibles vous guident en douceur à travers des postures simples, des exercices de respiration et une relaxation profonde.

🌟 Pourquoi choisir le Yoga Doux ?

Idéal pour découvrir le yoga à votre rythme.
Renforce le corps tout en améliorant souplesse et posture.
Apaise le mental et réduit le stress.
💖 Un yoga pour tous : Que vous soyez novice ou en quête de sérénité, ces cours sont parfaits pour vous reconnecter à votre corps et cultiver un bien-être intérieur.

Venez découvrir un moment de douceur, rien que pour vous. 🧘‍♀️✨
STATUS:CONFIRMED
SEQUENCE:0
END:VEVENT
END:VCALENDAR