BEGIN:VCALENDAR
VERSION:2.0
CALSCALE:GREGORIAN
BEGIN:VEVENT
SUMMARY:Yoga Boost
DTSTART;TZID=Europe/Paris:20251115T094500
DTEND;TZID=Europe/Paris:20251115T104500
LOCATION:place leopold cupif 13600 ceyreste
DESCRIPTION: Yoga Boost
Un yoga dynamique et accessible, pour renforcer le corps et booster l’énergie.
Quelques bases de yoga sont conseillées pour profiter pleinement du flow, mais chacun avance à son rythme, dans la bienveillance et la bonne humeur.
STATUS:CONFIRMED
SEQUENCE:0
END:VEVENT
END:VCALENDAR