BEGIN:VCALENDAR
VERSION:2.0
CALSCALE:GREGORIAN
BEGIN:VEVENT
SUMMARY:Classe de yoga 1h30
DTSTART;TZID=America/New_York:20190827T180000
DTEND;TZID=America/New_York:20190827T193000
LOCATION:Myriam
DESCRIPTION: Monique et Karine ont payés en argent comptant. Il y a un 5$ de plus que Monique te devais :)
STATUS:CONFIRMED
SEQUENCE:0
END:VEVENT
END:VCALENDAR