BEGIN:VCALENDAR
VERSION:2.0
CALSCALE:GREGORIAN
BEGIN:VEVENT
SUMMARY:Yoga restauratif 1h30
DTSTART;TZID=America/New_York:20190910T194500
DTEND;TZID=America/New_York:20190910T211500
LOCATION:Ali
DESCRIPTION: 7
STATUS:CONFIRMED
SEQUENCE:0
END:VEVENT
END:VCALENDAR