BEGIN:VCALENDAR
VERSION:2.0
CALSCALE:GREGORIAN
BEGIN:VEVENT
SUMMARY:Classe de yoga 1h30
DTSTART;TZID=America/New_York:20190511T103000
DTEND;TZID=America/New_York:20190511T120000
LOCATION:Myriam
DESCRIPTION: Josée paye par virement interac
Sabina et Sylvie ont payés en argent comptant
*Sabina m&#039;a payé avec 40$ (2-20$). Je n&#039;avais pas assez de change dans la pochette mauve alors j&#039;ai pris un 5$ des paiement reçues ce matin pour la différence*

:)
STATUS:CONFIRMED
SEQUENCE:0
END:VEVENT
END:VCALENDAR