BEGIN:VCALENDAR
VERSION:2.0
CALSCALE:GREGORIAN
BEGIN:VEVENT
SUMMARY:Classe de yoga 1h30
DTSTART;TZID=America/New_York:20190519T123000
DTEND;TZID=America/New_York:20190519T140000
LOCATION:Myriam Dussault
DESCRIPTION: + Vialley amoureux de Sabrina qui ne veut pas donner son courriel...

Sabrina, Vianney et Nathalie feront un virement interac :)
STATUS:CONFIRMED
SEQUENCE:0
END:VEVENT
END:VCALENDAR