BEGIN:VCALENDAR
VERSION:2.0
CALSCALE:GREGORIAN
BEGIN:VEVENT
SUMMARY:Hatha yoga 1h
DTSTART;TZID=America/New_York:20191127T174500
DTEND;TZID=America/New_York:20191127T184500
LOCATION:Géraldine
DESCRIPTION: Julia à payé 20$ comptant.
STATUS:CONFIRMED
SEQUENCE:0
END:VEVENT
END:VCALENDAR