BEGIN:VCALENDAR
VERSION:2.0
CALSCALE:GREGORIAN
BEGIN:VEVENT
SUMMARY:Hatha yoga 1h
DTSTART;TZID=America/New_York:20190917T080000
DTEND;TZID=America/New_York:20190917T090000
LOCATION:Myriam
DESCRIPTION: 6Sarah
7Nancy
STATUS:CONFIRMED
SEQUENCE:0
END:VEVENT
END:VCALENDAR