BEGIN:VCALENDAR
VERSION:2.0
CALSCALE:GREGORIAN
BEGIN:VEVENT
SUMMARY:Yoga doux et profond
DTSTART;TZID=Europe/Paris:20250806T183000
DTEND;TZID=Europe/Paris:20250806T193000
LOCATION:Ekam 3 rue Robion, Cagnes sur mer
DESCRIPTION: Pratique lente d&amp;#039;étirements pour gagner en souplesse et flexibilité. Mélange de postures maintenues 3 minutes dans l&amp;#039;immobilité et mouvements doux de mobilité.
STATUS:CONFIRMED
SEQUENCE:0
END:VEVENT
END:VCALENDAR