BEGIN:VCALENDAR
VERSION:2.0
CALSCALE:GREGORIAN
BEGIN:VEVENT
SUMMARY:Yoga doux et profond
DTSTART;TZID=Europe/Paris:20241205T090000
DTEND;TZID=Europe/Paris:20241205T100000
LOCATION:Ekam 3 rue Robion, Cagnes sur mer
DESCRIPTION: Pratique lente d&#039;étirements pour gagner en souplesse et flexibilité
STATUS:CONFIRMED
SEQUENCE:0
END:VEVENT
END:VCALENDAR