BEGIN:VCALENDAR
VERSION:2.0
CALSCALE:GREGORIAN
BEGIN:VEVENT
SUMMARY:Yang to Yin
DTSTART;TZID=Europe/Paris:20241226T173000
DTEND;TZID=Europe/Paris:20241226T183000
LOCATION:Ekam 3 rue Robion, Cagnes sur mer
DESCRIPTION: 30 minutes de pratique de yoga dynamique et 30 minutes de pratique méditative et douce.
STATUS:CONFIRMED
SEQUENCE:0
END:VEVENT
END:VCALENDAR