BEGIN:VCALENDAR
VERSION:2.0
CALSCALE:GREGORIAN
BEGIN:VEVENT
SUMMARY:Yoga doux et profond
DTSTART;TZID=Europe/Paris:20250619T183000
DTEND;TZID=Europe/Paris:20250619T193000
LOCATION:Ekam 3 rue Robion, Cagnes sur mer
DESCRIPTION: Pratique lente d&amp;#039;;étirements et de mobilité
STATUS:CONFIRMED
SEQUENCE:0
END:VEVENT
END:VCALENDAR