BEGIN:VCALENDAR
VERSION:2.0
CALSCALE:GREGORIAN
BEGIN:VEVENT
SUMMARY:Renforcement et inversions / WARRIOR yoga
DTSTART;TZID=Europe/Paris:20250518T170000
DTEND;TZID=Europe/Paris:20250518T180000
LOCATION:Ekam 3 rue Robion, Cagnes sur mer
DESCRIPTION: Pratique cardio de renforcement profond avec des postures d&amp;#039;inversions &amp;#34;challengeantes&amp;#34;.
STATUS:CONFIRMED
SEQUENCE:0
END:VEVENT
END:VCALENDAR