BEGIN:VCALENDAR
VERSION:2.0
CALSCALE:GREGORIAN
BEGIN:VEVENT
SUMMARY:Fondamental Yoga
DTSTART;TZID=Europe/Paris:20241210T121500
DTEND;TZID=Europe/Paris:20241210T131500
LOCATION:Ekam 3 rue Robion, Cagnes sur mer
DESCRIPTION: Pratique posturale dynamique. Les postures sont maintenues 5 respirations. Renforcement, équilibre, souplesse au rythme de votre respiration.
STATUS:CONFIRMED
SEQUENCE:0
END:VEVENT
END:VCALENDAR