BEGIN:VCALENDAR
VERSION:2.0
CALSCALE:GREGORIAN
BEGIN:VEVENT
SUMMARY:GRATUIT cours renforcement musculaire Focus abdos EMILIE
DTSTART;TZID=Europe/Paris:20250517T153000
DTEND;TZID=Europe/Paris:20250517T160000
LOCATION:Ekam 3 rue Robion, Cagnes sur mer
DESCRIPTION: Gratuit avec Emilie future coach sportive!
30 min de renforcement de la sangle abdominale.
STATUS:CONFIRMED
SEQUENCE:0
END:VEVENT
END:VCALENDAR