BEGIN:VCALENDAR
VERSION:2.0
CALSCALE:GREGORIAN
BEGIN:VEVENT
SUMMARY:Yoga doux chez Elise
DTSTART;TZID=Europe/Paris:20250920T100000
DTEND;TZID=Europe/Paris:20250920T110000
LOCATION:3 rue Michelet Villejuif
DESCRIPTION: Cette séance est conçue pour relâcher les tensions, calmer l&#039;esprit et étirer le corps en douceur, sans forcer. Elle est parfaite pour commencer le week-end.
STATUS:CONFIRMED
SEQUENCE:0
END:VEVENT
END:VCALENDAR