BEGIN:VCALENDAR
VERSION:2.0
CALSCALE:GREGORIAN
BEGIN:VEVENT
SUMMARY:Hatha yoga
DTSTART;TZID=Europe/Paris:20251018T100000
DTEND;TZID=Europe/Paris:20251018T110000
LOCATION:3 rue Michelet Villejuif
DESCRIPTION: Une pratique douce (et plus lente que le Vinyasa) axé sur l&#039;alignement et la respiration. Permet de relâcher les tensions physiques et nerveuses accumulées, d&#039;apporter énergie au corps et au mental et favorise la présence à l&#039;instant présent.
STATUS:CONFIRMED
SEQUENCE:0
END:VEVENT
END:VCALENDAR