BEGIN:VCALENDAR
VERSION:2.0
CALSCALE:GREGORIAN
BEGIN:VEVENT
SUMMARY:ONLINE Yoga Trapeze - Vital and Fit
DTSTART;TZID=Europe/Zagreb:20241129T163000
DTEND;TZID=Europe/Zagreb:20241129T173000
LOCATION:Elixir Vitae Studio ONLINE
DESCRIPTION: If you have a yoga trapeze at home, join us online! Ideally you need a laptop or tablet screen, or a TV, and perhaps a phone set up so instructor can see you.
Ideal trapeze hanging height is 270cm or higher. You need at least 1,5 meters on all sides. One or two mats below. You will receive a ZOOM login email 30 minutes before each class.
STATUS:CONFIRMED
SEQUENCE:0
END:VEVENT
END:VCALENDAR