BEGIN:VCALENDAR
VERSION:2.0
CALSCALE:GREGORIAN
BEGIN:VEVENT
SUMMARY:Aerial Dance za Početnike
DTSTART;TZID=Europe/Zagreb:20241101T150000
DTEND;TZID=Europe/Zagreb:20241101T163000
LOCATION:Elixir Vitae Studio
DESCRIPTION: 
STATUS:CONFIRMED
SEQUENCE:0
END:VEVENT
END:VCALENDAR