BEGIN:VCALENDAR
VERSION:2.0
CALSCALE:GREGORIAN
BEGIN:VEVENT
SUMMARY:ONLINE Restorative yoga
DTSTART;TZID=Europe/Zagreb:20250425T180000
DTEND;TZID=Europe/Zagreb:20250425T184000
LOCATION:Elixir Vitae Studio
DESCRIPTION: End of the week restorative pracitce. Please have some blankets and cusheons, a yoga block if you have one, a simple chair or stool if you have one handy.
STATUS:CONFIRMED
SEQUENCE:0
END:VEVENT
END:VCALENDAR