BEGIN:VCALENDAR
VERSION:2.0
CALSCALE:GREGORIAN
BEGIN:VEVENT
SUMMARY:USKRS
DTSTART;TZID=Europe/Zagreb:20250420T104000
DTEND;TZID=Europe/Zagreb:20250420T114000
LOCATION:Elixir Vitae Studio
DESCRIPTION: 
STATUS:CONFIRMED
SEQUENCE:0
END:VEVENT
END:VCALENDAR