BEGIN:VCALENDAR
VERSION:2.0
CALSCALE:GREGORIAN
BEGIN:VEVENT
SUMMARY:Hatha &amp; Yin
DTSTART;TZID=Europe/Paris:20260128T183000
DTEND;TZID=Europe/Paris:20260128T193000
LOCATION:3 place Gouas  77860 Couilly-Pont-Aux-Dames
DESCRIPTION: Le cours préparera le corps à entrer en mouvement (doux et adaptés) pour finir sur une relaxation.
Mélange de hatha et yin yoga.
STATUS:CONFIRMED
SEQUENCE:0
END:VEVENT
END:VCALENDAR