BEGIN:VCALENDAR
VERSION:2.0
CALSCALE:GREGORIAN
BEGIN:VEVENT
SUMMARY:Slow Down Saturday :))
DTSTART;TZID=Europe/Amsterdam:20260228T090000
DTEND;TZID=Europe/Amsterdam:20260228T100000
LOCATION:House of Maan
DESCRIPTION: Lekker ontspannen het weekend in gaan? Meld je meteen aan voor deze Slow Down Les
STATUS:CONFIRMED
SEQUENCE:0
END:VEVENT
END:VCALENDAR