BEGIN:VCALENDAR
VERSION:2.0
CALSCALE:GREGORIAN
BEGIN:VEVENT
SUMMARY:MUNZ FLOOR® rue de Sèvres
DTSTART;TZID=Europe/Paris:20260506T144500
DTEND;TZID=Europe/Paris:20260506T160000
LOCATION:14 rue de Sèvres à Boulogne Billancourt
DESCRIPTION: Séance de Munz Floor en présentiel (1h15) au 14 rue de Sèvres à Boulogne (pas de code nécessaire, la salle donne directement sur la rue).
STATUS:CONFIRMED
SEQUENCE:0
END:VEVENT
END:VCALENDAR